0.2500000000
0.0000000000
0.0000000000
-0.2500000000
481152.1250000000
418984.6250000000
