0.2500000000
0.0000000000
0.0000000000
-0.2500000000
481238.1250000000
421261.1250000000
