0.2500000000
0.0000000000
0.0000000000
-0.2500000000
477802.1250000000
419111.3750000000
