0.2500000000
0.0000000000
0.0000000000
-0.2500000000
477888.6250000000
421387.8750000000
