0.2500000000
0.0000000000
0.0000000000
-0.2500000000
474452.3750000000
419238.6250000000
