0.2500000000
0.0000000000
0.0000000000
-0.2500000000
474538.8750000000
421515.1250000000
