0.2500000000
0.0000000000
0.0000000000
-0.2500000000
488022.8750000000
423285.6250000000
