0.2500000000
0.0000000000
0.0000000000
-0.2500000000
488108.1250000000
425561.8750000000
