0.2500000000
0.0000000000
0.0000000000
-0.2500000000
484673.3750000000
423411.3750000000
