0.2500000000
0.0000000000
0.0000000000
-0.2500000000
484759.1250000000
425687.6250000000
