0.2500000000
0.0000000000
0.0000000000
-0.2500000000
481324.1250000000
423537.6250000000
