0.2500000000
0.0000000000
0.0000000000
-0.2500000000
481410.1250000000
425813.8750000000
