0.2500000000
0.0000000000
0.0000000000
-0.2500000000
477974.8750000000
423664.3750000000
