0.2500000000
0.0000000000
0.0000000000
-0.2500000000
478061.1250000000
425940.6250000000
