0.2500000000
0.0000000000
0.0000000000
-0.2500000000
474625.6250000000
423791.6250000000
