0.2500000000
0.0000000000
0.0000000000
-0.2500000000
474712.3750000000
426067.8750000000
