0.2500000000
0.0000000000
0.0000000000
-0.2500000000
516688.1250000000
381198.1250000000
