0.2500000000
0.0000000000
0.0000000000
-0.2500000000
516770.3750000000
383474.6250000000
