0.2500000000
0.0000000000
0.0000000000
-0.2500000000
513332.3750000000
381319.3750000000
