0.2500000000
0.0000000000
0.0000000000
-0.2500000000
513414.8750000000
383596.1250000000
