0.2500000000
0.0000000000
0.0000000000
-0.2500000000
509976.6250000000
381441.3750000000
