0.2500000000
0.0000000000
0.0000000000
-0.2500000000
510059.6250000000
383717.8750000000
