0.2500000000
0.0000000000
0.0000000000
-0.2500000000
506621.1250000000
381563.6250000000
