0.2500000000
0.0000000000
0.0000000000
-0.2500000000
506704.1250000000
383840.3750000000
