0.2500000000
0.0000000000
0.0000000000
-0.2500000000
516852.3750000000
385751.3750000000
