0.2500000000
0.0000000000
0.0000000000
-0.2500000000
513497.3750000000
385872.6250000000
