0.2500000000
0.0000000000
0.0000000000
-0.2500000000
513579.8750000000
388149.1250000000
