0.2500000000
0.0000000000
0.0000000000
-0.2500000000
510142.3750000000
385994.3750000000
