0.2500000000
0.0000000000
0.0000000000
-0.2500000000
510225.3750000000
388271.1250000000
