0.2500000000
0.0000000000
0.0000000000
-0.2500000000
506787.3750000000
386116.8750000000
