0.2500000000
0.0000000000
0.0000000000
-0.2500000000
506870.6250000000
388393.3750000000
