0.2500000000
0.0000000000
0.0000000000
-0.2500000000
513662.3750000000
390425.8750000000
