0.2500000000
0.0000000000
0.0000000000
-0.2500000000
513745.1250000000
392702.3750000000
