0.2500000000
0.0000000000
0.0000000000
-0.2500000000
510308.1250000000
390547.6250000000
