0.2500000000
0.0000000000
0.0000000000
-0.2500000000
510391.1250000000
392824.3750000000
