0.2500000000
0.0000000000
0.0000000000
-0.2500000000
506953.8750000000
390670.1250000000
