0.2500000000
0.0000000000
0.0000000000
-0.2500000000
507037.1250000000
392946.6250000000
