0.2500000000
0.0000000000
0.0000000000
-0.2500000000
510473.8750000000
395100.8750000000
