0.2500000000
0.0000000000
0.0000000000
-0.2500000000
507120.3750000000
395223.1250000000
