0.2500000000
0.0000000000
0.0000000000
-0.2500000000
507203.6250000000
397499.6250000000
