0.2500000000
0.0000000000
0.0000000000
-0.2500000000
434346.1250000000
338724.8750000000
