0.2500000000
0.0000000000
0.0000000000
-0.2500000000
434436.6250000000
341001.3750000000
