0.2500000000
0.0000000000
0.0000000000
-0.2500000000
430984.1250000000
338858.8750000000
