0.2500000000
0.0000000000
0.0000000000
-0.2500000000
431074.8750000000
341135.1250000000
