0.2500000000
0.0000000000
0.0000000000
-0.2500000000
427621.8750000000
338993.1250000000
