0.2500000000
0.0000000000
0.0000000000
-0.2500000000
427713.1250000000
341269.6250000000
