0.2500000000
0.0000000000
0.0000000000
-0.2500000000
424259.6250000000
339128.1250000000
