0.2500000000
0.0000000000
0.0000000000
-0.2500000000
424351.3750000000
341404.6250000000
