0.2500000000
0.0000000000
0.0000000000
-0.2500000000
420897.6250000000
339263.6250000000
