0.2500000000
0.0000000000
0.0000000000
-0.2500000000
420989.3750000000
341539.8750000000
